BEGIN:VCALENDAR
VERSION:2.0
PRODID:-//wp-events-plugin.com//6.6.4.4//EN
TZID:Europe/Berlin
X-WR-TIMEZONE:Europe/Berlin
BEGIN:VEVENT
UID:149@offen-fuer-kultur.de
DTSTART;TZID=Europe/Berlin:20260705T120000
DTEND;TZID=Europe/Berlin:20260705T133000
DTSTAMP:20260412T165714Z
URL:https://www.offen-fuer-kultur.de/programm/2026/07/05/rieke-havertz-goo
 dbye-amerika-die-usa-und-wir-eine-neuvermessung/
SUMMARY:Rieke Havertz: Goodbye\, Amerika? Die USA und wir – eine Neuverme
 ssung
DESCRIPTION:Lesung und Gespräch\n\nModeration: Dr. Andreas Etges (Amerika-
 Institut Ludwig-Maximilians-Universität München)\n\nBei schönem Wetter 
 findet die Veranstaltung im Bibliotheksgarten statt.\n\nEine Anmeldung ist
  nicht erforderlich. Platzreservierungen sind über unser Buchungsformular
  möglich.\n\nEin Präsident\, der offen die Verfassung angreift\, das Ova
 l Office als Gefälligkeitsbörse\, das transatlantische Bündnis in der K
 rise. Schon im ersten Jahr von Donald Trumps zweiter Amtszeit ist klar\, d
 ass diese vier Jahre nicht einfach unbeschadet ausgesessen werden können.
  Vielmehr stehen wir vor der grundlegenden Frage: »Goodbye\, Amerika?«\,
  die Trump uns aufgezwungen hat.\n\nDie langjährige USA-Expertin Rieke Ha
 vertz lädt uns ein in ihr Amerika. Auf eine persönliche Reise durch Erin
 nerungen\, amerikanische Ambivalenzen und ein sich veränderndes Land\, da
 s uns doch alle betrifft. – Immer mit der Hoffnung\, dieses streitbare\,
  entnervende\, wunderbare\, aufregende Land nicht aufgeben zu müssen.\n\n
 »Rieke Havertz kennt Amerika besser als die meisten Amerikaner. Ihre Stim
 me ist entscheidend\, um uns dieses tief gespaltene Land näherzubringen.
 « Anne Hull\, Pulitzer-Preis-Gewinnerin und langjährige Journalistin fü
 r die Washington Post.\n\nRieke Havertz\, Jahrgang 1980\, ist internationa
 le Korrespondentin bei der ZEIT und seit 2020 Co-Host des Podcasts »OK\, 
 America?«. Mehrere Jahre hat sie aus Washington über das Land berichtet\
 , in das sie sich vor über 20 Jahren verliebt hat – auch wenn sie manch
 mal an ihm verzweifelt. Havertz hat in Leipzig und an der Ohio University 
 Journalismus und Amerikanistik studiert. Nach Stationen bei der taz ist si
 e seit 2016 bei DIE ZEIT.\n\n&nbsp\;\n\n&nbsp\;
ATTACH;FMTTYPE=image/jpeg:https://www.offen-fuer-kultur.de/wp-content/uplo
 ads/2026/04/Havertz_c_Jacbia_Dahm.jpg
CATEGORIES:Gespräch,Lesung
END:VEVENT
BEGIN:VTIMEZONE
TZID:Europe/Berlin
X-LIC-LOCATION:Europe/Berlin
BEGIN:DAYLIGHT
DTSTART:20260329T030000
TZOFFSETFROM:+0100
TZOFFSETTO:+0200
TZNAME:CEST
END:DAYLIGHT
END:VTIMEZONE
END:VCALENDAR