BEGIN:VCALENDAR
VERSION:2.0
PRODID:-//wp-events-plugin.com//6.6.4.4//EN
TZID:Europe/Berlin
X-WR-TIMEZONE:Europe/Berlin
BEGIN:VEVENT
UID:146@offen-fuer-kultur.de
DTSTART;TZID=Europe/Berlin:20260426T103000
DTEND;TZID=Europe/Berlin:20260426T114500
DTSTAMP:20260326T104413Z
URL:https://www.offen-fuer-kultur.de/programm/2026/04/26/qigong-mit-sandra
 -koegel-6/
SUMMARY:Qigong mit Sandra Kögel
DESCRIPTION:Um Kraft zu schöpfen und die eigene Mitte zu stärken\, ist 
 Qigong wunderbar geeignet. Sandra Kögel wird euch mit ausgewählten Ü
 bungen aus den „18 Bewegungen des Tai-Chi Qigong" in die Jahrtausende al
 te Tradition des Qigong einführen. Die Übungen sind ideal für Anfä
 nger*innen\, aber auch für Bewegungserfahrene geeignet. Qigong erfrischt
  Körper und Geist und wirkt stressreduzierend.\n\nBitte bequeme Kleidung
  und feste Schuhe mitbringen!\n\nSandra Kögel ist ausgebildete Qigong-Le
 hrerin der Deutschen Qigong Gesellschaft e. V.
ATTACH;FMTTYPE=image/jpeg:https://www.offen-fuer-kultur.de/wp-content/uplo
 ads/2025/05/Qigong_Sandra_Koegel.jpg
CATEGORIES:Kurs / Workshop
END:VEVENT
BEGIN:VTIMEZONE
TZID:Europe/Berlin
X-LIC-LOCATION:Europe/Berlin
BEGIN:DAYLIGHT
DTSTART:20260329T030000
TZOFFSETFROM:+0100
TZOFFSETTO:+0200
TZNAME:CEST
END:DAYLIGHT
END:VTIMEZONE
END:VCALENDAR