BEGIN:VCALENDAR
VERSION:2.0
PRODID:-//wp-events-plugin.com//6.6.4.4//EN
TZID:Europe/Berlin
X-WR-TIMEZONE:Europe/Berlin
BEGIN:VEVENT
UID:148@offen-fuer-kultur.de
DTSTART;TZID=Europe/Berlin:20260426T143000
DTEND;TZID=Europe/Berlin:20260426T170000
DTSTAMP:20260401T193117Z
URL:https://www.offen-fuer-kultur.de/programm/2026/04/26/kinonachmittag-in
 -die-sonne-schauen/
SUMMARY:Kinonachmittag: In die Sonne schauen
DESCRIPTION:Drama\, Deutschland 2025\, 149 Minuten\nRegie: Mascha Schilinsk
 i\n\nFSK 16\n\nEinlass: 14:00 Uhr\n\nEin abgeschiedener Vierseitenhof in d
 er Altmark. Die Wände atmen seit über einem Jahrhundert das Leben der Me
 nschen\, die hier wohnen\, ihren Geschmack\, ihr Sein in der Zeit. IN DIE 
 SONNE SCHAUEN erzählt von vier Frauen aus unterschiedlichen Epochen – A
 lma (1910er)\, Erika (1940er)\, Angelika (1980er) und Nelly (2020er) – d
 eren Leben auf unheimliche Weise miteinander verwoben sind. Jede von ihnen
  erlebt ihre Kindheit oder Jugend auf diesem Hof\, doch während sie ihre 
 eigene Gegenwart durchstreifen\, offenbaren sich ihnen Spuren der Vergange
 nheit – unausgesprochene Ängste\, verdrängte Traumata\, verschüttete 
 Geheimnisse. Alma entdeckt\, dass sie nach ihrer verstorbenen Schwester be
 nannt wurde und glaubt\, dem gleichen Schicksal folgen zu müssen. Erika v
 erliert sich in einer gefährlichen Faszination für ihren versehrten Onk
 el. Angelika balanciert zwischen Todessehnsucht und Lebensgier\, gefangen 
 in einem brüchigen Familiensystem. Nelly schließlich\, die in scheinbare
 r Geborgenheit aufwächst\, wird von intensiven Träumen und der unbewusst
 en Last der Vergangenheit heimgesucht. Als sich ein tragisches Ereignis au
 f dem Hof wiederholt\, geraten die Grenzen zwischen Vergangenheit und Gege
 nwart ins Wanken.\n\nEinen großen\, epochalen Film hat Mascha Schilinski 
 mit IN DIE SONNE SCHAUEN geschaffen\, eine Grand Tour in die feinsten Verz
 weigungen der Gefühlswelten dieser vier Frauen. IN DIE SONNE SCHAUEN ziel
 t dabei auch auf unsere Gegenwart und unser sich akut veränderndes Erlebe
 n von Geschichte und dem Epochenwandel. Ein Film\, der sich tief in unsere
  Wahrnehmung bohrt und die Sensation dort inszeniert\, wo das Empfinden am
  flüchtigsten ist: im schnell verblassenden Gefühl von Zeit.\n\nIN DIE S
 ONNE SCHAUEN wurde u. a. bei den 78. Filmfestspielen in Cannes 2025 mit de
 m renommierten Preis der Jury ausgezeichnet.
ATTACH;FMTTYPE=image/jpeg:https://www.offen-fuer-kultur.de/wp-content/uplo
 ads/2026/03/260426_In-die-Sonne-schauen-7_©-Neue-Visionen.jpg
CATEGORIES:Film
END:VEVENT
BEGIN:VTIMEZONE
TZID:Europe/Berlin
X-LIC-LOCATION:Europe/Berlin
BEGIN:DAYLIGHT
DTSTART:20260329T030000
TZOFFSETFROM:+0100
TZOFFSETTO:+0200
TZNAME:CEST
END:DAYLIGHT
END:VTIMEZONE
END:VCALENDAR